BEGIN:VCALENDAR
VERSION:2.0
PRODID:-//Tukios.com/
BEGIN:VEVENT
UID:202b7157-9f24-45c0-b957-fb4fea06527f@www.legacyfuneralcare.com
DTSTAMP:20260425T014205Z
DTSTART:20260509T180000Z
DTEND:20260509T190000Z
SUMMARY:Funeral Service
DESCRIPTION:
URL:https://www.legacyfuneralcare.com/obituaries/rosemary-ghosn
LOCATION:St. Therese Parish 6400 Saint Therese Way  San Diego CA 92120
GEO:32.7939034;-117.0660568
END:VEVENT
END:VCALENDAR