BEGIN:VCALENDAR
VERSION:2.0
PRODID:-//Tukios.com/
BEGIN:VEVENT
UID:329b70eb-92a5-45ed-8d1e-298b9e32129a@www.legacyfuneralcare.com
DTSTAMP:20260423T032401Z
DTSTART:20260501T200000Z
DTEND:20260501T210000Z
SUMMARY:Funeral Mass
DESCRIPTION:
URL:https://www.legacyfuneralcare.com/obituaries/maureen-hogan
LOCATION:St. Anne Catholic Church 2337 Irving Ave  San Diego CA 92113
GEO:32.6990216;-117.1353362
END:VEVENT
END:VCALENDAR