BEGIN:VCALENDAR
VERSION:2.0
PRODID:-//Tukios.com/
BEGIN:VEVENT
UID:42eae51f-e14f-4222-a8b2-87d1c2b1cae8@www.legacyfuneralcare.com
DTSTAMP:20260423T032543Z
DTSTART:20260501T193000Z
DTEND:20260501T200000Z
SUMMARY:Rosary
DESCRIPTION:
URL:https://www.legacyfuneralcare.com/obituaries/maureen-hogan
LOCATION:St. Anne Catholic Church 2337 Irving Ave  San Diego CA 92113
GEO:32.6990216;-117.1353362
END:VEVENT
END:VCALENDAR