BEGIN:VCALENDAR
VERSION:2.0
PRODID:-//Tukios.com/
BEGIN:VEVENT
UID:c7ba780e-90e1-4dc9-a182-3879dda4f82a@www.legacyfuneralcare.com
DTSTAMP:20260423T032543Z
DTSTART:20260430T210000Z
DTEND:20260430T220000Z
SUMMARY:Celebration of Life
DESCRIPTION:
URL:https://www.legacyfuneralcare.com/obituaries/lisetta-jordan
LOCATION: 7043 University Ave  La Mesa CA 91942
GEO:32.7543551;-117.0459032
END:VEVENT
END:VCALENDAR